BEGIN:VCALENDAR
VERSION:2.0
PRODID:-//hacksw/handcal//NONSGML v1.0//EN
BEGIN:VEVENT
SUMMARY:Eau libre 2026 - Morlaix
UID:4fd703dc-0a4e-406c-b36d-d68347fa253b
DTSTART:20260821T220000Z
DTEND:20260822T220000Z
LOCATION:Localisation   
CATEGORIES:Sportif
STATUS:
URL;VALUE=URI:https://www.espoirnautiquepontivy.com/evenements/2026/08/22/eau-libre-2026-morlaix-2443780
END:VEVENT
END:VCALENDAR
