BEGIN:VCALENDAR
VERSION:2.0
PRODID:-//hacksw/handcal//NONSGML v1.0//EN
BEGIN:VEVENT
SUMMARY:Eau libre 2026 - Quiberon
UID:4ff3f557-5124-4107-9f3e-cb2373313a5d
DTSTART:20260724T220000Z
DTEND:20260726T220000Z
LOCATION:Localisation Grande plage 56170 Quiberon
CATEGORIES:Sportif
STATUS:
DESCRIPTION:<h1><strong><a
 href="https://www.ffneaulibre.fr/evenements/voir/6346/les-defis-quiberonnais-coupe-de-france-et-de-bretagne-edf-aqua-challenge-quiberon"
 target="_blank" rel="noreferrer noopener">LIEN INFORMATIONS ET
 INSCRIPTIONS </a></strong></h1>
URL;VALUE=URI:https://www.espoirnautiquepontivy.com/evenements/2026/07/25/eau-libre-2026-quiberon-2443776
END:VEVENT
END:VCALENDAR
