BEGIN:VCALENDAR
VERSION:2.0
PRODID:-//hacksw/handcal//NONSGML v1.0//EN
BEGIN:VEVENT
SUMMARY:Eau libre 2026 - Carnac
UID:971203e3-abc4-455c-8b7b-99f09523286f
DTSTART:20260718T220000Z
DTEND:20260719T220000Z
LOCATION:Localisation plage de la pointe Churchill 5640 Carnac
CATEGORIES:Sportif
STATUS:
DESCRIPTION:<h1><strong><a
 href="https://www.ffneaulibre.fr/evenements/voir/6344/carnac-o-libre-2026-carnac"
 target="_blank" rel="noreferrer noopener">LIEN INFORMATIONS ET
 INSCRIPTIONS</a></strong></h1>
URL;VALUE=URI:https://www.espoirnautiquepontivy.com/evenements/2026/07/19/eau-libre-2026-carnac-2443774
END:VEVENT
END:VCALENDAR
