BEGIN:VCALENDAR
VERSION:2.0
PRODID:-//hacksw/handcal//NONSGML v1.0//EN
BEGIN:VEVENT
SUMMARY:Eau libre 2026 - Brest
UID:ab8c8952-a490-4577-8003-a46a95181c90
DTSTART:20260710T220000Z
DTEND:20260712T220000Z
LOCATION:Localisation   
CATEGORIES:Sportif
STATUS:
URL;VALUE=URI:https://www.espoirnautiquepontivy.com/evenements/2026/07/11/eau-libre-2026-brest-2443772
END:VEVENT
END:VCALENDAR
