BEGIN:VCALENDAR
VERSION:2.0
PRODID:-//hacksw/handcal//NONSGML v1.0//EN
BEGIN:VEVENT
SUMMARY:Eau libre 2026 - ILE-TUDY
UID:eb931984-3480-49c2-a672-78155a81e33f
DTSTART:20260703T220000Z
DTEND:20260705T220000Z
LOCATION:Localisation Plage du Maracana 29980 Ile-Tudy
CATEGORIES:Sportif
STATUS:
DESCRIPTION:<h1><strong><a
 href="https://www.ffneaulibre.fr/evenements/voir/6356/les-balades-bigoudenes-2026-le-tudy"
 target="_blank" rel="noreferrer noopener">INFORMATIONS ET LIEN
 INSCRIPTION</a></strong></h1>
URL;VALUE=URI:https://www.espoirnautiquepontivy.com/evenements/2026/07/04/eau-libre-2026-ile-tudy-2443770
END:VEVENT
END:VCALENDAR
