BEGIN:VCALENDAR
VERSION:2.0
PRODID:-//hacksw/handcal//NONSGML v1.0//EN
BEGIN:VEVENT
SUMMARY:Eau libre 2026 - Guerledan a la nage
UID:e3bf9633-b8ad-4583-b1f1-639b0aa4e5ec
DTSTART:20260627T220000Z
DTEND:20260628T220000Z
LOCATION:Localisation Base de plein air, 106 rue du lac 22530 Guerledan (Mur-De-Bretagne)
CATEGORIES:Sportif
STATUS:
URL;VALUE=URI:https://www.espoirnautiquepontivy.com/evenements/2026/06/28/eau-libre-2026-guerledan-a-la-nage-2443769
END:VEVENT
END:VCALENDAR
