BEGIN:VCALENDAR
VERSION:2.0
PRODID:-//hacksw/handcal//NONSGML v1.0//EN
BEGIN:VEVENT
SUMMARY:Eau libre 2026 - Redon
UID:ac973b53-a3d2-415e-adfa-64bfb3c587d0
DTSTART:20260513T220000Z
DTEND:20260514T220000Z
LOCATION:Localisation Base Nautique de l'etang Aumee 44460 Saint-Nicolas-de -Redon
CATEGORIES:Sportif
STATUS:
DESCRIPTION:<p><span style="font-size:22px;"><strong><a
 href="https://www.ffneaulibre.fr/evenements/voir/6363/coupe-de-bretagne-etape-de-redon-saint-nicolas-de-redon"
 target="_blank" rel="noreferrer noopener">LIEN
 INSCRIPTION</a></strong></span></p>
 
 <p>1er Etape de la coupe de
 Bretagne d'eau libre a St Nicolas de Redon a la base nautique de
 l'etang Aumee.<br>
 4 epreuves au programme:<br>
 5km depart
 13h<br>
 2km depart 15h15<br>
 500m depart 16h30<br>
 Relais 4X500m
 mixte</p>
URL;VALUE=URI:https://www.espoirnautiquepontivy.com/evenements/2026/05/14/eau-libre-2026-redon-2443733
END:VEVENT
END:VCALENDAR
